Workbook

Sheet TBO
A1: TBO - 2011 MPB Update
A2: Area (ha) of MPB Attack Severity by Age Class and Density within Pine Stands (Pine Species >= 30% density - The Pine Mask)
A3: TSA Area | B3: 659000.07
A4: Pine Mask Unharvested Area | B4: =SUM(data!D2:D200) -> 229103.11
A6: MPB Attack as a percentage of Pine affected within the VRI Stand
A8: MPB Attack Severity
C9: Light (<11%) | E9: Moderate (11-30%) | G9: Severe (31-50%) | I9: Very Severe (>50%) | K9: All Severity | M9: No Attack
A10: Age Class | B10: Pine Density | C10: Area (ha) | D10: Percent of all Pine (Pine Mask) | E10: Area (ha) | F10: Percent of all Pine (Pine Mask) | G10: Area (ha) | H10: Percent of all Pine (Pine Mask) | I10: Area (ha) | J10: Percent of all Pine (Pine Mask) | K10: Total Area of Attack (ha) | L10: Percent of all Pine (Pine Mask) | M10: Area (ha) | N10: Percent of all Pine (Pine Mask)
A11: 21-40 years | B11: 30-70% | C11: {=SUM(IF(data!A2:A200="21-40 years",IF(data!B2:B200="30-70%",IF(data!C2:C200="Light (<11%)",data!D2:D200,0),0),0))} -> 766.18316 | D11: =C11/($K$20+$M$20) -> 0.0036485026 | E11: {=SUM(IF(data!A2:A200="21-40 years",IF(data!B2:B200="30-70%",IF(data!C2:C200="Moderate (11-30%)",data!D2:D200,0),0),0))} -> 286.77747 | F11: =E11/($K$20+$M$20) -> 0.0013656112 | G11: {=SUM(IF(data!A2:A200="21-40 years",IF(data!B2:B200="30-70%",IF(data!C2:C200="Severe (31-50%)",data!D2:D200,0),0),0))} -> 159.14191 | H11: =G11/($K$20+$M$20) -> 0.00075782098 | I11: {=SUM(IF(data!A2:A200="21-40 years",IF(data!B2:B200="30-70%",IF(data!C2:C200="Very Severe (>50%)",data!D2:D200,0),0),0))} -> 147.36529 | J11: =I11/($K$20+$M$20) -> 0.00070174164 | K11: =SUM(C11,E11,G11,I11) -> 1359.4678 | L11: =K11/($K$20+$M$20) -> 0.0064736764 | M11: {=SUM(IF(data!A2:A200="21-40 years",IF(data!B2:B200="30-70%",IF(data!C2:C200="No Attack",data!D2:D200,0),0),0))} -> 7467.837 | N11: =M11/($K$20+$M$20) -> 0.035561239
B12: >70% | C12: {=SUM(IF(data!A2:A200="21-40 years",IF(data!B2:B200=">70%",IF(data!C2:C200="Light (<11%)",data!D2:D200,0),0),0))} -> 592.01323 | D12: =C12/($K$20+$M$20) -> 0.0028191193 | E12: {=SUM(IF(data!A2:A200="21-40 years",IF(data!B2:B200=">70%",IF(data!C2:C200="Moderate (11-30%)",data!D2:D200,0),0),0))} -> 211.36913 | F12: =E12/($K$20+$M$20) -> 0.0010065228 | G12: {=SUM(IF(data!A2:A200="21-40 years",IF(data!B2:B200=">70%",IF(data!C2:C200="Severe (31-50%)",data!D2:D200,0),0),0))} -> 73.362264 | H12: =G12/($K$20+$M$20) -> 0.00034934519 | I12: {=SUM(IF(data!A2:A200="21-40 years",IF(data!B2:B200=">70%",IF(data!C2:C200="Very Severe (>50%)",data!D2:D200,0),0),0))} -> 50.197117 | J12: =I12/($K$20+$M$20) -> 0.00023903463 | K12: =SUM(C12,E12,G12,I12) -> 926.94173 | L12: =K12/($K$20+$M$20) -> 0.0044140219 | M12: {=SUM(IF(data!A2:A200="21-40 years",IF(data!B2:B200=">70%",IF(data!C2:C200="No Attack",data!D2:D200,0),0),0))} -> 8647.5279 | N12: =M12/($K$20+$M$20) -> 0.041178832
A14: 41-60 years | B14: 30-70% | C14: {=SUM(IF(data!A2:A200="41-60 years",IF(data!B2:B200="30-70%",IF(data!C2:C200="Light (<11%)",data!D2:D200,0),0),0))} -> 140.94727 | D14: =C14/($K$20+$M$20) -> 0.00067117955 | E14: {=SUM(IF(data!A2:A200="41-60 years",IF(data!B2:B200="30-70%",IF(data!C2:C200="Moderate (11-30%)",data!D2:D200,0),0),0))} -> 93.825484 | F14: =E14/($K$20+$M$20) -> 0.0004467894 | G14: {=SUM(IF(data!A2:A200="41-60 years",IF(data!B2:B200="30-70%",IF(data!C2:C200="Severe (31-50%)",data!D2:D200,0),0),0))} -> 60.28464 | H14: =G14/($K$20+$M$20) -> 0.00028707061 | I14: {=SUM(IF(data!A2:A200="41-60 years",IF(data!B2:B200="30-70%",IF(data!C2:C200="Very Severe (>50%)",data!D2:D200,0),0),0))} -> 162.75423 | J14: =I14/($K$20+$M$20) -> 0.00077502254 | K14: =SUM(C14,E14,G14,I14) -> 457.81162 | L14: =K14/($K$20+$M$20) -> 0.0021800621 | M14: {=SUM(IF(data!A2:A200="41-60 years",IF(data!B2:B200="30-70%",IF(data!C2:C200="No Attack",data!D2:D200,0),0),0))} -> 1445.7179 | N14: =M14/($K$20+$M$20) -> 0.006884392
B15: >70% | C15: {=SUM(IF(data!A2:A200="41-60 years",IF(data!B2:B200=">70%",IF(data!C2:C200="Light (<11%)",data!D2:D200,0),0),0))} -> 237.28313 | D15: =C15/($K$20+$M$20) -> 0.0011299232 | E15: {=SUM(IF(data!A2:A200="41-60 years",IF(data!B2:B200=">70%",IF(data!C2:C200="Moderate (11-30%)",data!D2:D200,0),0),0))} -> 83.25187 | F15: =E15/($K$20+$M$20) -> 0.0003964387 | G15: {=SUM(IF(data!A2:A200="41-60 years",IF(data!B2:B200=">70%",IF(data!C2:C200="Severe (31-50%)",data!D2:D200,0),0),0))} -> 7.162561 | H15: =G15/($K$20+$M$20) -> 3.4107539e-05 | I15: {=SUM(IF(data!A2:A200="41-60 years",IF(data!B2:B200=">70%",IF(data!C2:C200="Very Severe (>50%)",data!D2:D200,0),0),0))} -> 302.80626 | J15: =I15/($K$20+$M$20) -> 0.0014419391 | K15: =SUM(C15,E15,G15,I15) -> 630.50382 | L15: =K15/($K$20+$M$20) -> 0.0030024084 | M15: {=SUM(IF(data!A2:A200="41-60 years",IF(data!B2:B200=">70%",IF(data!C2:C200="No Attack",data!D2:D200,0),0),0))} -> 1966.6323 | N15: =M15/($K$20+$M$20) -> 0.0093649446
A17: >60 years | B17: 30-70% | C17: {=SUM(IF(data!A2:A200=">60 years",IF(data!B2:B200="30-70%",IF(data!C2:C200="Light (<11%)",data!D2:D200,0),0),0))} -> 5319.9828 | D17: =C17/($K$20+$M$20) -> 0.02533333 | E17: {=SUM(IF(data!A2:A200=">60 years",IF(data!B2:B200="30-70%",IF(data!C2:C200="Moderate (11-30%)",data!D2:D200,0),0),0))} -> 6477.1364 | F17: =E17/($K$20+$M$20) -> 0.030843602 | G17: {=SUM(IF(data!A2:A200=">60 years",IF(data!B2:B200="30-70%",IF(data!C2:C200="Severe (31-50%)",data!D2:D200,0),0),0))} -> 4207.4781 | H17: =G17/($K$20+$M$20) -> 0.020035672 | I17: {=SUM(IF(data!A2:A200=">60 years",IF(data!B2:B200="30-70%",IF(data!C2:C200="Very Severe (>50%)",data!D2:D200,0),0),0))} -> 8713.5807 | J17: =I17/($K$20+$M$20) -> 0.04149337 | K17: =SUM(C17,E17,G17,I17) -> 24718.178 | L17: =K17/($K$20+$M$20) -> 0.11770597 | M17: {=SUM(IF(data!A2:A200=">60 years",IF(data!B2:B200="30-70%",IF(data!C2:C200="No Attack",data!D2:D200,0),0),0))} -> 63056.399 | N17: =M17/($K$20+$M$20) -> 0.3002695
B18: >70% | C18: {=SUM(IF(data!A2:A200=">60 years",IF(data!B2:B200=">70%",IF(data!C2:C200="Light (<11%)",data!D2:D200,0),0),0))} -> 10732.799 | D18: =C18/($K$20+$M$20) -> 0.051108725 | E18: {=SUM(IF(data!A2:A200=">60 years",IF(data!B2:B200=">70%",IF(data!C2:C200="Moderate (11-30%)",data!D2:D200,0),0),0))} -> 10427.839 | F18: =E18/($K$20+$M$20) -> 0.049656532 | G18: {=SUM(IF(data!A2:A200=">60 years",IF(data!B2:B200=">70%",IF(data!C2:C200="Severe (31-50%)",data!D2:D200,0),0),0))} -> 6860.0059 | H18: =G18/($K$20+$M$20) -> 0.032666796 | I18: {=SUM(IF(data!A2:A200=">60 years",IF(data!B2:B200=">70%",IF(data!C2:C200="Very Severe (>50%)",data!D2:D200,0),0),0))} -> 10853.612 | J18: =I18/($K$20+$M$20) -> 0.051684026 | K18: =SUM(C18,E18,G18,I18) -> 38874.256 | L18: =K18/($K$20+$M$20) -> 0.18511608 | M18: {=SUM(IF(data!A2:A200=">60 years",IF(data!B2:B200=">70%",IF(data!C2:C200="No Attack",data!D2:D200,0),0),0))} -> 60448.076 | N18: =M18/($K$20+$M$20) -> 0.28784887
A20: Total | C20: =SUM(C11:C18) -> 17789.209 | D20: =C20/($K$20+$M$20) -> 0.08471078 | E20: =SUM(E11:E18) -> 17580.2 | F20: =E20/($K$20+$M$20) -> 0.083715496 | G20: =SUM(G11:G18) -> 11367.435 | H20: =G20/($K$20+$M$20) -> 0.054130812 | I20: =SUM(I11:I18) -> 20230.315 | J20: =I20/($K$20+$M$20) -> 0.096335133 | K20: =SUM(K11:K18) -> 66967.159 | L20: =SUM(L11:L18) -> 0.31889222 | M20: =SUM(M11:M18) -> 143032.19 | N20: =SUM(N11:N18) -> 0.68110778

Sheet data
A1: Age Class | B1: Pine Density | C1: MPB Attack Severity | D1: Sum Of area_ha
A2: <21 years | B2: >70% | C2: Light (<11%) | D2: 88.10399
A3: <21 years | B3: >70% | C3: Light (<11%) | D3: 512.73307
A4: <21 years | B4: >70% | C4: Moderate (11-30%) | D4: 8.4405006
A5: <21 years | B5: >70% | C5: Moderate (11-30%) | D5: 84.957736
A6: <21 years | B6: >70% | C6: No Attack | D6: 8923.502
A7: <21 years | B7: >70% | C7: No Attack | D7: 22.6429
A8: <21 years | B8: >70% | C8: No Attack | D8: 144.73666
A9: <21 years | B9: >70% | C9: No Attack | D9: 198.09604
A10: <21 years | B10: >70% | C10: Severe (31-50%) | D10: 19.083978
A11: <21 years | B11: >70% | C11: Severe (31-50%) | D11: 10.776676
A12: <21 years | B12: >70% | C12: Very Severe (>50%) | D12: 17.473159
A13: <21 years | B13: >70% | C13: Very Severe (>50%) | D13: 8.952671e-06
... A108: 41-60 years | B108: 30-70% | C108: Very Severe (>50%) | D108: 30.795367

Sheet Sheet3
